BEGIN:VCALENDAR
VERSION:2.0
PRODID:-//Granite Bay Campus - ECPv6.11.2.1//NONSGML v1.0//EN
CALSCALE:GREGORIAN
METHOD:PUBLISH
X-ORIGINAL-URL:https://granitebay.baysideonline.com
X-WR-CALDESC:Events for Granite Bay Campus
REFRESH-INTERVAL;VALUE=DURATION:PT1H
X-Robots-Tag:noindex
X-PUBLISHED-TTL:PT1H
BEGIN:VTIMEZONE
TZID:America/Los_Angeles
BEGIN:DAYLIGHT
TZOFFSETFROM:-0800
TZOFFSETTO:-0700
TZNAME:PDT
DTSTART:20260308T100000
END:DAYLIGHT
BEGIN:STANDARD
TZOFFSETFROM:-0700
TZOFFSETTO:-0800
TZNAME:PST
DTSTART:20261101T090000
END:STANDARD
END:VTIMEZONE
BEGIN:VEVENT
DTSTART;TZID=America/Los_Angeles:20260423T091500
DTEND;TZID=America/Los_Angeles:20260423T113000
DTSTAMP:20260425T180910
CREATED:20251110T214505Z
LAST-MODIFIED:20251111T221153Z
UID:10013195-1776935700-1776943800@granitebay.baysideonline.com
SUMMARY:Thursday AM Hebrews with Live Teaching with Lisa Thompson | Spring 2026
DESCRIPTION:Thursday AM\nJesus is Better – A study of Hebrews NEW STUDY!\nLive Teaching with Lisa Thompson\nTime: 9:15-11:30 AM\nLocation: Granite Bay Campus/ Video Café (B121)\nCost: $30 Study book included/ Registration is Non-Refundable \nChildcare is available with separate registration for children from 8-week-olds through Preschoolers.\nThree simple words—Jesus is better—And when we begin to really believe that it changes everything about how we live\, love others\, and where we place our hope. \nWe often try to find our identity and purpose in relationships\, success\, status\, comfort\, or even our own strength. But sooner or later\, those things shift and disappoint us\, leaving our hearts frustrated\, restless and unsatisfied. The book of Hebrews calls us back to the only foundation that never fails\, Jesus Himself. As we journey through this powerful letter\, Hebrews is the key to unlocking the Old and New Testaments\, revealing Jesus as the ultimate fulfillment of God’s promises and the One who holds our faith secure. \nWe’re excited to learn from Lisa Thompson\, Granite Bay Women’s Pastor\, whose heart is to help women build their lives on the unshakable truth of Christ\, not the shifting trends or pressures of the world. So\, whether you’re exploring faith\, rebuilding it\, or ready to deepen it\, come as you are. Bring your questions and your honest heart. There’s a place for you here. \nThis study will help you not only learn the great truths found in the Book of Hebrews but provide great tools to help you deepen how you study and apply Scripture to your everyday life. Together we’ll uncover what it truly means to live anchored in the lasting joy\, peace\, and purpose that come only from Jesus. He is not just enough; He is better than anything else this world has to offer.
URL:https://granitebay.baysideonline.com/event/thursday-am-hebrews-with-live-teaching-with-lisa-thompson-spring-2026/2026-04-23/
LOCATION:Studio B (formerly Video Cafe)\, 8171 Sierra College Blvd B-121\, Roseville\, 95661
ATTACH;FMTTYPE=image/png:https://granitebay.baysideonline.com/wp-content/uploads/sites/6/2025/11/hebrewswide.png
END:VEVENT
BEGIN:VEVENT
DTSTART;TZID=America/Los_Angeles:20260423T091500
DTEND;TZID=America/Los_Angeles:20260423T113000
DTSTAMP:20260425T180910
CREATED:20251107T184234Z
LAST-MODIFIED:20260108T220022Z
UID:10012973-1776935700-1776943800@granitebay.baysideonline.com
SUMMARY:Knowing Jesus
DESCRIPTION:Knowing Jesus – Study of John\nBy Rachel Johnston\nTime: 9:15-11:30 AM\nLocation: Granite Bay Campus/ Video Café /Studio B(B-121)\nCost: $20 Study book included/ Registration is Non-Refundable \nChildren’s Ministry is available with separate registration for children from 8-week-olds through Preschoolers. \nThis Bible Study is designed especially for those of you who are new to studying the Bible. We’ll learn about what the Bible says about Jesus\, His relationship with people at the time He lived on earth\, and what difference this makes in our lives today. This is a perfect opportunity for you to read through the pages of the Bible yourself and ask those questions you’ve had in the back of your mind. You’ll experience a relaxed and welcoming atmosphere\, build new friendships and grow in your relationship with God.\nLeaders – Laurie Morse and Danna Stieglitz\nQuestions? Contact olga.tsaplin@volunteer.baysideonline.com
URL:https://granitebay.baysideonline.com/event/knowing-jesus/2026-04-23/
LOCATION:Studio B (formerly Video Cafe)\, 8171 Sierra College Blvd B-121\, Roseville\, 95661
ATTACH;FMTTYPE=image/png:https://granitebay.baysideonline.com/wp-content/uploads/sites/6/2025/11/knowingjesus-wide.png
END:VEVENT
BEGIN:VEVENT
DTSTART;TZID=America/Los_Angeles:20260421T091500
DTEND;TZID=America/Los_Angeles:20260421T113000
DTSTAMP:20260425T180910
CREATED:20251107T181659Z
LAST-MODIFIED:20251107T182815Z
UID:10012949-1776762900-1776771000@granitebay.baysideonline.com
SUMMARY:MomCo Spring 2026
DESCRIPTION:At MomCo\, we’re all about coming alongside moms and building community together. We believe in the simple—but powerful—truth that amazing things happen when moms connect.\nGreat news—MomCo is for moms with children of any age\, and first-time pregnant moms are welcome too! For little ones (8 weeks–5 years old)\, we offer a separate registration and on-campus program so they can be cared for while you attend.\nWhen: Tuesdays\, Feb 3– April 21st\nTime: 9:15–11:30 AM\nWhere: Granite Bay Campus-Video Cafe
URL:https://granitebay.baysideonline.com/event/momco-spring-2026/2026-04-21/
LOCATION:Studio B (formerly Video Cafe)\, 8171 Sierra College Blvd B-121\, Roseville\, 95661
ATTACH;FMTTYPE=image/jpeg:https://granitebay.baysideonline.com/wp-content/uploads/sites/6/2025/11/mom-co-logo-1024x1024-1920-x-1080-px.jpg
END:VEVENT
BEGIN:VEVENT
DTSTART;TZID=America/Los_Angeles:20260420T183000
DTEND;TZID=America/Los_Angeles:20260420T210000
DTSTAMP:20260425T180910
CREATED:20260422T182716Z
LAST-MODIFIED:20260423T164730Z
UID:10014507-1776709800-1776718800@granitebay.baysideonline.com
SUMMARY:Celebrate Recovery
DESCRIPTION:HOPE IS REAL – GOD IS GOOD — CHANGE IS POSSIBLE\nWhat’s holding you back from being the person you want to be? Are you ready for real and lasting change? \nCelebrate Recovery is for those who are ready to overcome our hurts\, hang-ups\, and habits. It is a safe and encouraging place to find community and freedom from the issues that are controlling our life. Celebrate Recovery is a biblical and balanced program based on the actual words and teachings of Jesus which has helped millions of people around the world. \nBy working the steps and applying their Biblical principles\, we begin to grow spiritually. We become free from our addictive\, compulsive\, and dysfunctional behaviors. This freedom creates peace\, serenity\, joy\, and most importantly\, a stronger personal relationship with God and others! \nJoin us every Monday on-campus for: \nLarge Group Meeting | 6:30 – 7:30pm\n– Live Worship and Lesson/Personal Testimony \nOpen Share Small Groups | 7:30 – 8:30pm\n– Men’s\, women’s groups that are focused on specific areas in which people are struggling\n– Newcomers 101 – An Introduction to Celebrate Recovery for first time attenders \nSolid Rock Cafe | 8:30 – 9:00pm\n– Connection and free desserts \nWe also have Celebration Place for children ages 3 months and up and The Landing for middle and high-school students. \ngranitebay.recovery@baysideonline.com \nTo get on our confidential email list for regular updates CLICK HERE
URL:https://granitebay.baysideonline.com/event/celebrate-recovery/
LOCATION:Studio B (formerly Video Cafe)\, 8171 Sierra College Blvd B-121\, Roseville\, 95661
ATTACH;FMTTYPE=image/png:https://granitebay.baysideonline.com/wp-content/uploads/sites/6/2026/04/cr-1920x1080-1.png
END:VEVENT
BEGIN:VEVENT
DTSTART;TZID=America/Los_Angeles:20260416T091500
DTEND;TZID=America/Los_Angeles:20260416T113000
DTSTAMP:20260425T180910
CREATED:20251110T214505Z
LAST-MODIFIED:20251111T221153Z
UID:10013194-1776330900-1776339000@granitebay.baysideonline.com
SUMMARY:Thursday AM Hebrews with Live Teaching with Lisa Thompson | Spring 2026
DESCRIPTION:Thursday AM\nJesus is Better – A study of Hebrews NEW STUDY!\nLive Teaching with Lisa Thompson\nTime: 9:15-11:30 AM\nLocation: Granite Bay Campus/ Video Café (B121)\nCost: $30 Study book included/ Registration is Non-Refundable \nChildcare is available with separate registration for children from 8-week-olds through Preschoolers.\nThree simple words—Jesus is better—And when we begin to really believe that it changes everything about how we live\, love others\, and where we place our hope. \nWe often try to find our identity and purpose in relationships\, success\, status\, comfort\, or even our own strength. But sooner or later\, those things shift and disappoint us\, leaving our hearts frustrated\, restless and unsatisfied. The book of Hebrews calls us back to the only foundation that never fails\, Jesus Himself. As we journey through this powerful letter\, Hebrews is the key to unlocking the Old and New Testaments\, revealing Jesus as the ultimate fulfillment of God’s promises and the One who holds our faith secure. \nWe’re excited to learn from Lisa Thompson\, Granite Bay Women’s Pastor\, whose heart is to help women build their lives on the unshakable truth of Christ\, not the shifting trends or pressures of the world. So\, whether you’re exploring faith\, rebuilding it\, or ready to deepen it\, come as you are. Bring your questions and your honest heart. There’s a place for you here. \nThis study will help you not only learn the great truths found in the Book of Hebrews but provide great tools to help you deepen how you study and apply Scripture to your everyday life. Together we’ll uncover what it truly means to live anchored in the lasting joy\, peace\, and purpose that come only from Jesus. He is not just enough; He is better than anything else this world has to offer.
URL:https://granitebay.baysideonline.com/event/thursday-am-hebrews-with-live-teaching-with-lisa-thompson-spring-2026/2026-04-16/
LOCATION:Studio B (formerly Video Cafe)\, 8171 Sierra College Blvd B-121\, Roseville\, 95661
ATTACH;FMTTYPE=image/png:https://granitebay.baysideonline.com/wp-content/uploads/sites/6/2025/11/hebrewswide.png
END:VEVENT
BEGIN:VEVENT
DTSTART;TZID=America/Los_Angeles:20260416T091500
DTEND;TZID=America/Los_Angeles:20260416T113000
DTSTAMP:20260425T180910
CREATED:20251107T184234Z
LAST-MODIFIED:20260108T220022Z
UID:10012972-1776330900-1776339000@granitebay.baysideonline.com
SUMMARY:Knowing Jesus
DESCRIPTION:Knowing Jesus – Study of John\nBy Rachel Johnston\nTime: 9:15-11:30 AM\nLocation: Granite Bay Campus/ Video Café /Studio B(B-121)\nCost: $20 Study book included/ Registration is Non-Refundable \nChildren’s Ministry is available with separate registration for children from 8-week-olds through Preschoolers. \nThis Bible Study is designed especially for those of you who are new to studying the Bible. We’ll learn about what the Bible says about Jesus\, His relationship with people at the time He lived on earth\, and what difference this makes in our lives today. This is a perfect opportunity for you to read through the pages of the Bible yourself and ask those questions you’ve had in the back of your mind. You’ll experience a relaxed and welcoming atmosphere\, build new friendships and grow in your relationship with God.\nLeaders – Laurie Morse and Danna Stieglitz\nQuestions? Contact olga.tsaplin@volunteer.baysideonline.com
URL:https://granitebay.baysideonline.com/event/knowing-jesus/2026-04-16/
LOCATION:Studio B (formerly Video Cafe)\, 8171 Sierra College Blvd B-121\, Roseville\, 95661
ATTACH;FMTTYPE=image/png:https://granitebay.baysideonline.com/wp-content/uploads/sites/6/2025/11/knowingjesus-wide.png
END:VEVENT
BEGIN:VEVENT
DTSTART;TZID=America/Los_Angeles:20260414T091500
DTEND;TZID=America/Los_Angeles:20260414T113000
DTSTAMP:20260425T180910
CREATED:20251107T181659Z
LAST-MODIFIED:20251107T182815Z
UID:10012948-1776158100-1776166200@granitebay.baysideonline.com
SUMMARY:MomCo Spring 2026
DESCRIPTION:At MomCo\, we’re all about coming alongside moms and building community together. We believe in the simple—but powerful—truth that amazing things happen when moms connect.\nGreat news—MomCo is for moms with children of any age\, and first-time pregnant moms are welcome too! For little ones (8 weeks–5 years old)\, we offer a separate registration and on-campus program so they can be cared for while you attend.\nWhen: Tuesdays\, Feb 3– April 21st\nTime: 9:15–11:30 AM\nWhere: Granite Bay Campus-Video Cafe
URL:https://granitebay.baysideonline.com/event/momco-spring-2026/2026-04-14/
LOCATION:Studio B (formerly Video Cafe)\, 8171 Sierra College Blvd B-121\, Roseville\, 95661
ATTACH;FMTTYPE=image/jpeg:https://granitebay.baysideonline.com/wp-content/uploads/sites/6/2025/11/mom-co-logo-1024x1024-1920-x-1080-px.jpg
END:VEVENT
BEGIN:VEVENT
DTSTART;TZID=America/Los_Angeles:20260409T091500
DTEND;TZID=America/Los_Angeles:20260409T113000
DTSTAMP:20260425T180910
CREATED:20251110T214505Z
LAST-MODIFIED:20251111T221153Z
UID:10013193-1775726100-1775734200@granitebay.baysideonline.com
SUMMARY:Thursday AM Hebrews with Live Teaching with Lisa Thompson | Spring 2026
DESCRIPTION:Thursday AM\nJesus is Better – A study of Hebrews NEW STUDY!\nLive Teaching with Lisa Thompson\nTime: 9:15-11:30 AM\nLocation: Granite Bay Campus/ Video Café (B121)\nCost: $30 Study book included/ Registration is Non-Refundable \nChildcare is available with separate registration for children from 8-week-olds through Preschoolers.\nThree simple words—Jesus is better—And when we begin to really believe that it changes everything about how we live\, love others\, and where we place our hope. \nWe often try to find our identity and purpose in relationships\, success\, status\, comfort\, or even our own strength. But sooner or later\, those things shift and disappoint us\, leaving our hearts frustrated\, restless and unsatisfied. The book of Hebrews calls us back to the only foundation that never fails\, Jesus Himself. As we journey through this powerful letter\, Hebrews is the key to unlocking the Old and New Testaments\, revealing Jesus as the ultimate fulfillment of God’s promises and the One who holds our faith secure. \nWe’re excited to learn from Lisa Thompson\, Granite Bay Women’s Pastor\, whose heart is to help women build their lives on the unshakable truth of Christ\, not the shifting trends or pressures of the world. So\, whether you’re exploring faith\, rebuilding it\, or ready to deepen it\, come as you are. Bring your questions and your honest heart. There’s a place for you here. \nThis study will help you not only learn the great truths found in the Book of Hebrews but provide great tools to help you deepen how you study and apply Scripture to your everyday life. Together we’ll uncover what it truly means to live anchored in the lasting joy\, peace\, and purpose that come only from Jesus. He is not just enough; He is better than anything else this world has to offer.
URL:https://granitebay.baysideonline.com/event/thursday-am-hebrews-with-live-teaching-with-lisa-thompson-spring-2026/2026-04-09/
LOCATION:Studio B (formerly Video Cafe)\, 8171 Sierra College Blvd B-121\, Roseville\, 95661
ATTACH;FMTTYPE=image/png:https://granitebay.baysideonline.com/wp-content/uploads/sites/6/2025/11/hebrewswide.png
END:VEVENT
BEGIN:VEVENT
DTSTART;TZID=America/Los_Angeles:20260409T091500
DTEND;TZID=America/Los_Angeles:20260409T113000
DTSTAMP:20260425T180910
CREATED:20251107T184234Z
LAST-MODIFIED:20260108T220022Z
UID:10012971-1775726100-1775734200@granitebay.baysideonline.com
SUMMARY:Knowing Jesus
DESCRIPTION:Knowing Jesus – Study of John\nBy Rachel Johnston\nTime: 9:15-11:30 AM\nLocation: Granite Bay Campus/ Video Café /Studio B(B-121)\nCost: $20 Study book included/ Registration is Non-Refundable \nChildren’s Ministry is available with separate registration for children from 8-week-olds through Preschoolers. \nThis Bible Study is designed especially for those of you who are new to studying the Bible. We’ll learn about what the Bible says about Jesus\, His relationship with people at the time He lived on earth\, and what difference this makes in our lives today. This is a perfect opportunity for you to read through the pages of the Bible yourself and ask those questions you’ve had in the back of your mind. You’ll experience a relaxed and welcoming atmosphere\, build new friendships and grow in your relationship with God.\nLeaders – Laurie Morse and Danna Stieglitz\nQuestions? Contact olga.tsaplin@volunteer.baysideonline.com
URL:https://granitebay.baysideonline.com/event/knowing-jesus/2026-04-09/
LOCATION:Studio B (formerly Video Cafe)\, 8171 Sierra College Blvd B-121\, Roseville\, 95661
ATTACH;FMTTYPE=image/png:https://granitebay.baysideonline.com/wp-content/uploads/sites/6/2025/11/knowingjesus-wide.png
END:VEVENT
BEGIN:VEVENT
DTSTART;TZID=America/Los_Angeles:20260407T091500
DTEND;TZID=America/Los_Angeles:20260407T113000
DTSTAMP:20260425T180910
CREATED:20251107T181659Z
LAST-MODIFIED:20251107T182815Z
UID:10012947-1775553300-1775561400@granitebay.baysideonline.com
SUMMARY:MomCo Spring 2026
DESCRIPTION:At MomCo\, we’re all about coming alongside moms and building community together. We believe in the simple—but powerful—truth that amazing things happen when moms connect.\nGreat news—MomCo is for moms with children of any age\, and first-time pregnant moms are welcome too! For little ones (8 weeks–5 years old)\, we offer a separate registration and on-campus program so they can be cared for while you attend.\nWhen: Tuesdays\, Feb 3– April 21st\nTime: 9:15–11:30 AM\nWhere: Granite Bay Campus-Video Cafe
URL:https://granitebay.baysideonline.com/event/momco-spring-2026/2026-04-07/
LOCATION:Studio B (formerly Video Cafe)\, 8171 Sierra College Blvd B-121\, Roseville\, 95661
ATTACH;FMTTYPE=image/jpeg:https://granitebay.baysideonline.com/wp-content/uploads/sites/6/2025/11/mom-co-logo-1024x1024-1920-x-1080-px.jpg
END:VEVENT
BEGIN:VEVENT
DTSTART;TZID=America/Los_Angeles:20260402T091500
DTEND;TZID=America/Los_Angeles:20260402T113000
DTSTAMP:20260425T180910
CREATED:20251110T214505Z
LAST-MODIFIED:20251111T221153Z
UID:10013192-1775121300-1775129400@granitebay.baysideonline.com
SUMMARY:Thursday AM Hebrews with Live Teaching with Lisa Thompson | Spring 2026
DESCRIPTION:Thursday AM\nJesus is Better – A study of Hebrews NEW STUDY!\nLive Teaching with Lisa Thompson\nTime: 9:15-11:30 AM\nLocation: Granite Bay Campus/ Video Café (B121)\nCost: $30 Study book included/ Registration is Non-Refundable \nChildcare is available with separate registration for children from 8-week-olds through Preschoolers.\nThree simple words—Jesus is better—And when we begin to really believe that it changes everything about how we live\, love others\, and where we place our hope. \nWe often try to find our identity and purpose in relationships\, success\, status\, comfort\, or even our own strength. But sooner or later\, those things shift and disappoint us\, leaving our hearts frustrated\, restless and unsatisfied. The book of Hebrews calls us back to the only foundation that never fails\, Jesus Himself. As we journey through this powerful letter\, Hebrews is the key to unlocking the Old and New Testaments\, revealing Jesus as the ultimate fulfillment of God’s promises and the One who holds our faith secure. \nWe’re excited to learn from Lisa Thompson\, Granite Bay Women’s Pastor\, whose heart is to help women build their lives on the unshakable truth of Christ\, not the shifting trends or pressures of the world. So\, whether you’re exploring faith\, rebuilding it\, or ready to deepen it\, come as you are. Bring your questions and your honest heart. There’s a place for you here. \nThis study will help you not only learn the great truths found in the Book of Hebrews but provide great tools to help you deepen how you study and apply Scripture to your everyday life. Together we’ll uncover what it truly means to live anchored in the lasting joy\, peace\, and purpose that come only from Jesus. He is not just enough; He is better than anything else this world has to offer.
URL:https://granitebay.baysideonline.com/event/thursday-am-hebrews-with-live-teaching-with-lisa-thompson-spring-2026/2026-04-02/
LOCATION:Studio B (formerly Video Cafe)\, 8171 Sierra College Blvd B-121\, Roseville\, 95661
ATTACH;FMTTYPE=image/png:https://granitebay.baysideonline.com/wp-content/uploads/sites/6/2025/11/hebrewswide.png
END:VEVENT
BEGIN:VEVENT
DTSTART;TZID=America/Los_Angeles:20260402T091500
DTEND;TZID=America/Los_Angeles:20260402T113000
DTSTAMP:20260425T180911
CREATED:20251107T184234Z
LAST-MODIFIED:20260108T220022Z
UID:10012970-1775121300-1775129400@granitebay.baysideonline.com
SUMMARY:Knowing Jesus
DESCRIPTION:Knowing Jesus – Study of John\nBy Rachel Johnston\nTime: 9:15-11:30 AM\nLocation: Granite Bay Campus/ Video Café /Studio B(B-121)\nCost: $20 Study book included/ Registration is Non-Refundable \nChildren’s Ministry is available with separate registration for children from 8-week-olds through Preschoolers. \nThis Bible Study is designed especially for those of you who are new to studying the Bible. We’ll learn about what the Bible says about Jesus\, His relationship with people at the time He lived on earth\, and what difference this makes in our lives today. This is a perfect opportunity for you to read through the pages of the Bible yourself and ask those questions you’ve had in the back of your mind. You’ll experience a relaxed and welcoming atmosphere\, build new friendships and grow in your relationship with God.\nLeaders – Laurie Morse and Danna Stieglitz\nQuestions? Contact olga.tsaplin@volunteer.baysideonline.com
URL:https://granitebay.baysideonline.com/event/knowing-jesus/2026-04-02/
LOCATION:Studio B (formerly Video Cafe)\, 8171 Sierra College Blvd B-121\, Roseville\, 95661
ATTACH;FMTTYPE=image/png:https://granitebay.baysideonline.com/wp-content/uploads/sites/6/2025/11/knowingjesus-wide.png
END:VEVENT
BEGIN:VEVENT
DTSTART;TZID=America/Los_Angeles:20260331T091500
DTEND;TZID=America/Los_Angeles:20260331T113000
DTSTAMP:20260425T180911
CREATED:20251107T181659Z
LAST-MODIFIED:20251107T182815Z
UID:10012946-1774948500-1774956600@granitebay.baysideonline.com
SUMMARY:MomCo Spring 2026
DESCRIPTION:At MomCo\, we’re all about coming alongside moms and building community together. We believe in the simple—but powerful—truth that amazing things happen when moms connect.\nGreat news—MomCo is for moms with children of any age\, and first-time pregnant moms are welcome too! For little ones (8 weeks–5 years old)\, we offer a separate registration and on-campus program so they can be cared for while you attend.\nWhen: Tuesdays\, Feb 3– April 21st\nTime: 9:15–11:30 AM\nWhere: Granite Bay Campus-Video Cafe
URL:https://granitebay.baysideonline.com/event/momco-spring-2026/2026-03-31/
LOCATION:Studio B (formerly Video Cafe)\, 8171 Sierra College Blvd B-121\, Roseville\, 95661
ATTACH;FMTTYPE=image/jpeg:https://granitebay.baysideonline.com/wp-content/uploads/sites/6/2025/11/mom-co-logo-1024x1024-1920-x-1080-px.jpg
END:VEVENT
BEGIN:VEVENT
DTSTART;TZID=America/Los_Angeles:20260326T091500
DTEND;TZID=America/Los_Angeles:20260326T113000
DTSTAMP:20260425T180911
CREATED:20251110T214505Z
LAST-MODIFIED:20251111T221153Z
UID:10013191-1774516500-1774524600@granitebay.baysideonline.com
SUMMARY:Thursday AM Hebrews with Live Teaching with Lisa Thompson | Spring 2026
DESCRIPTION:Thursday AM\nJesus is Better – A study of Hebrews NEW STUDY!\nLive Teaching with Lisa Thompson\nTime: 9:15-11:30 AM\nLocation: Granite Bay Campus/ Video Café (B121)\nCost: $30 Study book included/ Registration is Non-Refundable \nChildcare is available with separate registration for children from 8-week-olds through Preschoolers.\nThree simple words—Jesus is better—And when we begin to really believe that it changes everything about how we live\, love others\, and where we place our hope. \nWe often try to find our identity and purpose in relationships\, success\, status\, comfort\, or even our own strength. But sooner or later\, those things shift and disappoint us\, leaving our hearts frustrated\, restless and unsatisfied. The book of Hebrews calls us back to the only foundation that never fails\, Jesus Himself. As we journey through this powerful letter\, Hebrews is the key to unlocking the Old and New Testaments\, revealing Jesus as the ultimate fulfillment of God’s promises and the One who holds our faith secure. \nWe’re excited to learn from Lisa Thompson\, Granite Bay Women’s Pastor\, whose heart is to help women build their lives on the unshakable truth of Christ\, not the shifting trends or pressures of the world. So\, whether you’re exploring faith\, rebuilding it\, or ready to deepen it\, come as you are. Bring your questions and your honest heart. There’s a place for you here. \nThis study will help you not only learn the great truths found in the Book of Hebrews but provide great tools to help you deepen how you study and apply Scripture to your everyday life. Together we’ll uncover what it truly means to live anchored in the lasting joy\, peace\, and purpose that come only from Jesus. He is not just enough; He is better than anything else this world has to offer.
URL:https://granitebay.baysideonline.com/event/thursday-am-hebrews-with-live-teaching-with-lisa-thompson-spring-2026/2026-03-26/
LOCATION:Studio B (formerly Video Cafe)\, 8171 Sierra College Blvd B-121\, Roseville\, 95661
ATTACH;FMTTYPE=image/png:https://granitebay.baysideonline.com/wp-content/uploads/sites/6/2025/11/hebrewswide.png
END:VEVENT
BEGIN:VEVENT
DTSTART;TZID=America/Los_Angeles:20260326T091500
DTEND;TZID=America/Los_Angeles:20260326T113000
DTSTAMP:20260425T180911
CREATED:20251107T184234Z
LAST-MODIFIED:20260108T220022Z
UID:10012969-1774516500-1774524600@granitebay.baysideonline.com
SUMMARY:Knowing Jesus
DESCRIPTION:Knowing Jesus – Study of John\nBy Rachel Johnston\nTime: 9:15-11:30 AM\nLocation: Granite Bay Campus/ Video Café /Studio B(B-121)\nCost: $20 Study book included/ Registration is Non-Refundable \nChildren’s Ministry is available with separate registration for children from 8-week-olds through Preschoolers. \nThis Bible Study is designed especially for those of you who are new to studying the Bible. We’ll learn about what the Bible says about Jesus\, His relationship with people at the time He lived on earth\, and what difference this makes in our lives today. This is a perfect opportunity for you to read through the pages of the Bible yourself and ask those questions you’ve had in the back of your mind. You’ll experience a relaxed and welcoming atmosphere\, build new friendships and grow in your relationship with God.\nLeaders – Laurie Morse and Danna Stieglitz\nQuestions? Contact olga.tsaplin@volunteer.baysideonline.com
URL:https://granitebay.baysideonline.com/event/knowing-jesus/2026-03-26/
LOCATION:Studio B (formerly Video Cafe)\, 8171 Sierra College Blvd B-121\, Roseville\, 95661
ATTACH;FMTTYPE=image/png:https://granitebay.baysideonline.com/wp-content/uploads/sites/6/2025/11/knowingjesus-wide.png
END:VEVENT
END:VCALENDAR